Workbook

Sheet MetaData
A1: RESEARCH DATASET METADATA
A2: PROJECT INFORMATION
A3: Research Title | C3: How Exposed and Threatened is Mauritius's Infrastructure to Climate Risks? A Material Stock Perspective
A4: Researcher | C4: Sumaita Rahman, University of Waterloo, School of Environment, Resources and Sustainability (SEED Faculty), Email: sn3rahman@uwaterloo.ca
A5: Supervisor | C5: Simron Singh, University of Waterloo, School of Environment, Resources and Sustainability (SEED Faculty), Email: simron.singh@uwaterloo.ca
A6: Committee Member | C6: Mahendra Gooroochurn, University of Mauritius, Email: m.gooroochurn@uom.ac.mu
A7: Dataset Type | C7: Airport Material Stock Calculation Sheet: Rodrigues Island
A8: Study Area | C8: Main Island of Mauritius, Rodrigues Island
A12: Tab Name | B12: Unit | C12: Role
A13: Density | B13: kg/m³ | C13: Input Parameters
A14: Airport Material Intensity (MI) | B14: kg/m² | C14: Material Intensity Lookup
A15: Thickness | B15: Metres (m) | C15: Input Parameters
A16: Airport MS (Area) | B16: m² | C16: Input Parameters
A17: Airport MS (Total) | B17: Tonnes | C17: Main Output
A18: Reinforcement Factor | B18: kg/m³ | C18: Input Parameters

Sheet Density
A1: Material | B1: Density
A2: Asphalt | B2: 2400
A3: Concrete | B3: 2400
A4: Base | B4: 2400
A5: Sub-Base | B5: 1680

Sheet Airport MI
A1: Component | B1: Asphalt MI | C1: Concrete MI | D1: Base MI | E1: Sub-Base | F1: Steel MI
A2: Runways | B2: =Thickness!B2 * VLOOKUP("Asphalt",Density!$A$2:$B$5,2,FALSE) -> 240 | C2: =Thickness!C2 * VLOOKUP("Concrete",Density!$A$2:$B$5,2,FALSE) -> 0 | D2: =Thickness!D2 * VLOOKUP("Base",Density!$A$2:$B$5,2,FALSE) -> 720 | E2: =Thickness!E2 * VLOOKUP("Sub-Base",Density!$A$2:$B$5,2,FALSE) -> 252 | F2: =IFERROR(VLOOKUP(A2,'Reinforcement Factor'!$A$2:$B$100,2,FALSE) * VLOOKUP(A2,Thickness!$A$2:$E$100,3,FALSE), 0) -> 0
A3: Taxiways | B3: =Thickness!B3 * VLOOKUP("Asphalt",Density!$A$2:$B$5,2,FALSE) -> 240 | C3: =Thickness!C3 * VLOOKUP("Concrete",Density!$A$2:$B$5,2,FALSE) -> 0 | D3: =Thickness!D3 * VLOOKUP("Base",Density!$A$2:$B$5,2,FALSE) -> 720 | E3: =Thickness!E3 * VLOOKUP("Sub-Base",Density!$A$2:$B$5,2,FALSE) -> 252 | F3: =IFERROR(VLOOKUP(A3,'Reinforcement Factor'!$A$2:$B$100,2,FALSE) * VLOOKUP(A3,Thickness!$A$2:$E$100,3,FALSE), 0) -> 0
A4: Apron | B4: =Thickness!B4 * VLOOKUP("Asphalt",Density!$A$2:$B$5,2,FALSE) -> 0 | C4: =Thickness!C4 * VLOOKUP("Concrete",Density!$A$2:$B$5,2,FALSE) -> 360 | D4: =Thickness!D4 * VLOOKUP("Base",Density!$A$2:$B$5,2,FALSE) -> 720 | E4: =Thickness!E4 * VLOOKUP("Sub-Base",Density!$A$2:$B$5,2,FALSE) -> 0 | F4: =IFERROR(VLOOKUP(A4,'Reinforcement Factor'!$A$2:$B$100,2,FALSE) * VLOOKUP(A4,Thickness!$A$2:$E$100,3,FALSE), 0) -> 22.5

Sheet Thickness
A1: Component | B1: Asphalt | C1: Concrete | D1: Base Thickness | E1: Sub-Base Thickness
A2: Runways | B2: 0.1 | C2: 0 | D2: 0.3 | E2: 0.15
A3: Taxiways | B3: 0.1 | C3: 0 | D3: 0.3 | E3: 0.15
A4: Apron | B4: 0 | C4: 0.15 | D4: 0.3 | E4: 0

Sheet Airport MS
A1: aid | B1: component | C1: area | D1: asphalt_ms | E1: concrete_ms | F1: steel_ms | G1: base_ms | H1: stabilized_base_ms | I1: total_ms_kg | J1: total_ms_tonne
A2: 1 | B2: Runways | C2: 42222.53 | D2: =C2*VLOOKUP(B2,'Airport MI'!$A$2:$F$100,2,FALSE) -> 10133407 | E2: =C2*VLOOKUP(B2,'Airport MI'!$A$2:$F$100,3,FALSE) -> 0 | F2: =C2*VLOOKUP(B2,'Airport MI'!$A$2:$F$100,3,FALSE) -> 0 | G2: =C2*VLOOKUP(B2,'Airport MI'!$A$2:$F$100,4,FALSE) -> 30400222 | H2: =C2*VLOOKUP(B2,'Airport MI'!$A$2:$F$100,5,FALSE) -> 10640078 | I2: =SUM(D2:H2) -> 51173706 | J2: =I2/1000 -> 51173.706
A3: 2 | B3: Taxiways | C3: 2971.0017 | D3: =C3*VLOOKUP(B3,'Airport MI'!$A$2:$F$100,2,FALSE) -> 713040.42 | E3: =C3*VLOOKUP(B3,'Airport MI'!$A$2:$F$100,3,FALSE) -> 0 | F3: =C3*VLOOKUP(B3,'Airport MI'!$A$2:$F$100,3,FALSE) -> 0 | G3: =C3*VLOOKUP(B3,'Airport MI'!$A$2:$F$100,4,FALSE) -> 2139121.3 | H3: =C3*VLOOKUP(B3,'Airport MI'!$A$2:$F$100,5,FALSE) -> 748692.44 | I3: =SUM(D3:H3) -> 3600854.1 | J3: =I3/1000 -> 3600.8541
A4: 3 | B4: Apron | C4: 8253.451 | D4: =C4*VLOOKUP(B4,'Airport MI'!$A$2:$F$100,2,FALSE) -> 0 | E4: =C4*VLOOKUP(B4,'Airport MI'!$A$2:$F$100,3,FALSE) -> 2971242.4 | F4: =C4*VLOOKUP(B4,'Airport MI'!$A$2:$F$100,3,FALSE) -> 2971242.4 | G4: =C4*VLOOKUP(B4,'Airport MI'!$A$2:$F$100,4,FALSE) -> 5942484.7 | H4: =C4*VLOOKUP(B4,'Airport MI'!$A$2:$F$100,5,FALSE) -> 0 | I4: =SUM(D4:H4) -> 11884969 | J4: =I4/1000 -> 11884.969
A5: Total | D5: =SUM(D2:D4) -> 10846448 | E5: =SUM(E2:E4) -> 2971242.4 | F5: =SUM(F2:F4) -> 2971242.4 | G5: =SUM(G2:G4) -> 38481828 | H5: =SUM(H2:H4) -> 11388770 | I5: =SUM(I2:I4) -> 66659530 | J5: =SUM(J2:J4) -> 66659.53

Sheet Reinforcement Factor
A1: Component | B1: Reinforcement Factor
A2: Apron | B2: 150
